0.2000000000
0.0000000000
0.0000000000
-0.2000000000
2497400.1000000001
1119549.8999999999
